BEGIN:VCALENDAR
VERSION:2.0
PRODID:-//HUNGARIAN FOLKLIFE ASSOCIATION - ECPv6.15.20//NONSGML v1.0//EN
CALSCALE:GREGORIAN
METHOD:PUBLISH
X-ORIGINAL-URL:https://hungarianfolklife.org
X-WR-CALDESC:Events for HUNGARIAN FOLKLIFE ASSOCIATION
REFRESH-INTERVAL;VALUE=DURATION:PT1H
X-Robots-Tag:noindex
X-PUBLISHED-TTL:PT1H
BEGIN:VTIMEZONE
TZID:America/New_York
BEGIN:DAYLIGHT
TZOFFSETFROM:-0500
TZOFFSETTO:-0400
TZNAME:EDT
DTSTART:20250309T070000
END:DAYLIGHT
BEGIN:STANDARD
TZOFFSETFROM:-0400
TZOFFSETTO:-0500
TZNAME:EST
DTSTART:20251102T060000
END:STANDARD
BEGIN:DAYLIGHT
TZOFFSETFROM:-0500
TZOFFSETTO:-0400
TZNAME:EDT
DTSTART:20260308T070000
END:DAYLIGHT
BEGIN:STANDARD
TZOFFSETFROM:-0400
TZOFFSETTO:-0500
TZNAME:EST
DTSTART:20261101T060000
END:STANDARD
BEGIN:DAYLIGHT
TZOFFSETFROM:-0500
TZOFFSETTO:-0400
TZNAME:EDT
DTSTART:20270314T070000
END:DAYLIGHT
BEGIN:STANDARD
TZOFFSETFROM:-0400
TZOFFSETTO:-0500
TZNAME:EST
DTSTART:20271107T060000
END:STANDARD
END:VTIMEZONE
BEGIN:VTIMEZONE
TZID:America/Phoenix
BEGIN:STANDARD
TZOFFSETFROM:-0700
TZOFFSETTO:-0700
TZNAME:MST
DTSTART:20250101T000000
END:STANDARD
END:VTIMEZONE
BEGIN:VTIMEZONE
TZID:America/Los_Angeles
BEGIN:DAYLIGHT
TZOFFSETFROM:-0800
TZOFFSETTO:-0700
TZNAME:PDT
DTSTART:20250309T100000
END:DAYLIGHT
BEGIN:STANDARD
TZOFFSETFROM:-0700
TZOFFSETTO:-0800
TZNAME:PST
DTSTART:20251102T090000
END:STANDARD
BEGIN:DAYLIGHT
TZOFFSETFROM:-0800
TZOFFSETTO:-0700
TZNAME:PDT
DTSTART:20260308T100000
END:DAYLIGHT
BEGIN:STANDARD
TZOFFSETFROM:-0700
TZOFFSETTO:-0800
TZNAME:PST
DTSTART:20261101T090000
END:STANDARD
BEGIN:DAYLIGHT
TZOFFSETFROM:-0800
TZOFFSETTO:-0700
TZNAME:PDT
DTSTART:20270314T100000
END:DAYLIGHT
BEGIN:STANDARD
TZOFFSETFROM:-0700
TZOFFSETTO:-0800
TZNAME:PST
DTSTART:20271107T090000
END:STANDARD
END:VTIMEZONE
BEGIN:VEVENT
DTSTART;TZID=America/New_York:20260228T170000
DTEND;TZID=America/New_York:20260228T233000
DTSTAMP:20260421T061710
CREATED:20260208T163406Z
LAST-MODIFIED:20260209T161410Z
UID:12824-1772298000-1772321400@hungarianfolklife.org
SUMMARY:Regina\, Canada | Multicultural Táncház
DESCRIPTION:On January 31st\, Eszterlánc will host its annual Táncház (dance house) and Concert at the Hungarian Cultural Center in Newark. Music will be provided by Gyanta Banda! 🎻 ✨ This … Continue reading Hungarian Folk Night: Táncház & Concert with Gyanta Banda
URL:https://hungarianfolklife.org/calendar/regina-canada-tanchaz-fundraiser/
LOCATION:Regina Hungarian Cultural and Social Club\, 1925 McAra Street\, Regina\, Saskatchewan\, Canada
CATEGORIES:Folk Dance | Táncház
ATTACH;FMTTYPE=image/jpeg:https://hungarianfolklife.org/wp-content/uploads/2026/02/IMG_0218.jpg
ORGANIZER;CN="Regina Hungarian Cultural and Social Club":MAILTO:reginahungarianclub@hotmail.com
END:VEVENT
BEGIN:VEVENT
DTSTART;TZID=America/New_York:20260228T170000
DTEND;TZID=America/New_York:20260228T233000
DTSTAMP:20260421T061710
CREATED:20260226T175529Z
LAST-MODIFIED:20260226T175529Z
UID:13085-1772298000-1772321400@hungarianfolklife.org
SUMMARY:Regina | Canada | Táncház
DESCRIPTION:On January 31st\, Eszterlánc will host its annual Táncház (dance house) and Concert at the Hungarian Cultural Center in Newark. Music will be provided by Gyanta Banda! 🎻 ✨ This … Continue reading Hungarian Folk Night: Táncház & Concert with Gyanta Banda
URL:https://hungarianfolklife.org/calendar/regina-canada-tanchaz/
LOCATION:Regina Hungarian Cultural and Social Club\, 1925 McAra Street\, Regina\, Saskatchewan\, Canada
CATEGORIES:Folk Dance | Táncház
ATTACH;FMTTYPE=image/jpeg:https://hungarianfolklife.org/wp-content/uploads/2026/02/624990206_1511380053772726_5212923134075092598_n.jpg
ORGANIZER;CN="Regina Hungarian Cultural and Social Club":MAILTO:reginahungarianclub@hotmail.com
END:VEVENT
BEGIN:VEVENT
DTSTART;TZID=America/New_York:20260228T180000
DTEND;TZID=America/New_York:20260228T233000
DTSTAMP:20260421T061710
CREATED:20260226T175028Z
LAST-MODIFIED:20260226T175028Z
UID:13081-1772301600-1772321400@hungarianfolklife.org
SUMMARY:Seattle | WA | Táncház with Forrás Banda
DESCRIPTION:On January 31st\, Eszterlánc will host its annual Táncház (dance house) and Concert at the Hungarian Cultural Center in Newark. Music will be provided by Gyanta Banda! 🎻 ✨ This … Continue reading Hungarian Folk Night: Táncház & Concert with Gyanta Banda
URL:https://hungarianfolklife.org/calendar/seattle-wa-tanchaz-with-forras-banda/
LOCATION:Seatle Quaker Meeting\, 4001 9th Avenue NE\, Seattle\, WA\, United States
CATEGORIES:Folk Dance | Táncház
ATTACH;FMTTYPE=image/jpeg:https://hungarianfolklife.org/wp-content/uploads/2026/02/642154704_25874436832218602_1267986589432269889_n.jpg
ORGANIZER;CN="Forgatos Hungarian Folk Dance Ensemble":MAILTO:forgatos.seattle@gmail.com
END:VEVENT
BEGIN:VEVENT
DTSTART;TZID=America/New_York:20260228T200000
DTEND;TZID=America/New_York:20260301T030000
DTSTAMP:20260421T061710
CREATED:20260204T173833Z
LAST-MODIFIED:20260209T161315Z
UID:12730-1772308800-1772334000@hungarianfolklife.org
SUMMARY:Munich\, Germany | Táncház
DESCRIPTION:On January 31st\, Eszterlánc will host its annual Táncház (dance house) and Concert at the Hungarian Cultural Center in Newark. Music will be provided by Gyanta Banda! 🎻 ✨ This … Continue reading Hungarian Folk Night: Táncház & Concert with Gyanta Banda
URL:https://hungarianfolklife.org/calendar/munich-tanchaz/
LOCATION:Restaurant Minoa\, 28 Zwergerstraße\, Neubiberg\, BY\, 85579
CATEGORIES:Folk Dance | Táncház
ATTACH;FMTTYPE=image/jpeg:https://hungarianfolklife.org/wp-content/uploads/2026/02/619391457_1556173606513696_665291179647383708_n.jpg
END:VEVENT
BEGIN:VEVENT
DTSTART;TZID=America/New_York:20260303T190000
DTEND;TZID=America/New_York:20260303T210000
DTSTAMP:20260421T061710
CREATED:20260302T193504Z
LAST-MODIFIED:20260302T193504Z
UID:13135-1772564400-1772571600@hungarianfolklife.org
SUMMARY:New York\, NY | Folk dance class series
DESCRIPTION:On January 31st\, Eszterlánc will host its annual Táncház (dance house) and Concert at the Hungarian Cultural Center in Newark. Music will be provided by Gyanta Banda! 🎻 ✨ This … Continue reading Hungarian Folk Night: Táncház & Concert with Gyanta Banda
URL:https://hungarianfolklife.org/calendar/new-york-ny-folk-dance-class-series/
LOCATION:Hungarian House | New Yok\, 213 East 82nd Street\, New York\, NY
CATEGORIES:Folk Dance Workshop
ATTACH;FMTTYPE=image/png:https://hungarianfolklife.org/wp-content/uploads/2026/03/Embedded0726be02b41a499bb6530cdf916cc3f5.png
END:VEVENT
BEGIN:VEVENT
DTSTART;TZID=America/Phoenix:20260308T120000
DTEND;TZID=America/Phoenix:20260308T170000
DTSTAMP:20260421T061710
CREATED:20260216T025126Z
LAST-MODIFIED:20260216T025126Z
UID:12976-1772971200-1772989200@hungarianfolklife.org
SUMMARY:Phoenix\, AZ | Hungarian Festival
DESCRIPTION:On January 31st\, Eszterlánc will host its annual Táncház (dance house) and Concert at the Hungarian Cultural Center in Newark. Music will be provided by Gyanta Banda! 🎻 ✨ This … Continue reading Hungarian Folk Night: Táncház & Concert with Gyanta Banda
URL:https://hungarianfolklife.org/calendar/phoenix-az-hungarian-festival/
LOCATION:CA
CATEGORIES:Festival
ATTACH;FMTTYPE=image/png:https://hungarianfolklife.org/wp-content/uploads/2026/02/Festival26_Poster_FINAL.png
END:VEVENT
BEGIN:VEVENT
DTSTART;TZID=America/New_York:20260308T154500
DTEND;TZID=America/New_York:20260308T173000
DTSTAMP:20260421T061710
CREATED:20260303T163912Z
LAST-MODIFIED:20260303T163912Z
UID:13202-1772984700-1772991000@hungarianfolklife.org
SUMMARY:Wallingford\, CT | Folk dance class
DESCRIPTION:On January 31st\, Eszterlánc will host its annual Táncház (dance house) and Concert at the Hungarian Cultural Center in Newark. Music will be provided by Gyanta Banda! 🎻 ✨ This … Continue reading Hungarian Folk Night: Táncház & Concert with Gyanta Banda
URL:https://hungarianfolklife.org/calendar/wallingford-ct-folk-dance-class/
LOCATION:Hungarian Club of Wallingford\, 147 Ward Street\, Wallingford\, CT\, 06492
CATEGORIES:Folk Dance Workshop
ATTACH;FMTTYPE=image/jpeg:https://hungarianfolklife.org/wp-content/uploads/2026/03/645192463_122267498876183432_2524024921568970414_n.jpg
ORGANIZER;CN="Hungarian Club of Wallingford":MAILTO:hccofwallingford@gmail.com
END:VEVENT
BEGIN:VEVENT
DTSTART;TZID=America/New_York:20260310T190000
DTEND;TZID=America/New_York:20260310T210000
DTSTAMP:20260421T061710
CREATED:20260302T193814Z
LAST-MODIFIED:20260302T193814Z
UID:13139-1773169200-1773176400@hungarianfolklife.org
SUMMARY:New York\, NY | Folk dance class series
DESCRIPTION:On January 31st\, Eszterlánc will host its annual Táncház (dance house) and Concert at the Hungarian Cultural Center in Newark. Music will be provided by Gyanta Banda! 🎻 ✨ This … Continue reading Hungarian Folk Night: Táncház & Concert with Gyanta Banda
URL:https://hungarianfolklife.org/calendar/new-york-ny-folk-dance-class-series-2/
LOCATION:Hungarian House | New Yok\, 213 East 82nd Street\, New York\, NY
CATEGORIES:Folk Dance Workshop
ATTACH;FMTTYPE=image/png:https://hungarianfolklife.org/wp-content/uploads/2026/03/Embedded0726be02b41a499bb6530cdf916cc3f5.png
END:VEVENT
BEGIN:VEVENT
DTSTART;TZID=America/New_York:20260314T150000
DTEND;TZID=America/New_York:20260314T230000
DTSTAMP:20260421T061710
CREATED:20260227T162132Z
LAST-MODIFIED:20260227T162132Z
UID:13105-1773500400-1773529200@hungarianfolklife.org
SUMMARY:Bristol | UK | Táncház
DESCRIPTION:On January 31st\, Eszterlánc will host its annual Táncház (dance house) and Concert at the Hungarian Cultural Center in Newark. Music will be provided by Gyanta Banda! 🎻 ✨ This … Continue reading Hungarian Folk Night: Táncház & Concert with Gyanta Banda
URL:https://hungarianfolklife.org/calendar/bristol-uk-tanchaz/
LOCATION:St Patricks Church Bristol\, Dillon Court\, Netham Rd\, Redfield\, BS5 9PF\, United Kingdom
CATEGORIES:Folk Dance | Táncház
ATTACH;FMTTYPE=image/jpeg:https://hungarianfolklife.org/wp-content/uploads/2026/02/IMG_0388.jpeg
ORGANIZER;CN="DunAvon Dance Ensemble":MAILTO:dunavondance@gmail.com
END:VEVENT
BEGIN:VEVENT
DTSTART;TZID=America/New_York:20260314T180000
DTEND;TZID=America/New_York:20260314T233000
DTSTAMP:20260421T061710
CREATED:20260302T200930Z
LAST-MODIFIED:20260302T200930Z
UID:13166-1773511200-1773531000@hungarianfolklife.org
SUMMARY:Jaragua\, Brazil | Táncház
DESCRIPTION:On January 31st\, Eszterlánc will host its annual Táncház (dance house) and Concert at the Hungarian Cultural Center in Newark. Music will be provided by Gyanta Banda! 🎻 ✨ This … Continue reading Hungarian Folk Night: Táncház & Concert with Gyanta Banda
URL:https://hungarianfolklife.org/calendar/jaragua-brazil-tanchaz/
LOCATION:Associação Húngara de Jaraguá do Sul\, 9315 Elsa Trapp Meier Street\, South Jaragua\, Brazil
CATEGORIES:Festival,Folk Dance | Táncház
ATTACH;FMTTYPE=image/jpeg:https://hungarianfolklife.org/wp-content/uploads/2026/03/641119692_18088486025328282_275402875277069900_n.jpg
ORGANIZER;CN="Associa%C3%A7%C3%A3o H%C3%BAngara de Jaragu%C3%A1 do Sul":MAILTO:associacaohungarajs@gmail.com
END:VEVENT
BEGIN:VEVENT
DTSTART;TZID=America/New_York:20260314T190000
DTEND;TZID=America/New_York:20260314T233000
DTSTAMP:20260421T061710
CREATED:20260302T200032Z
LAST-MODIFIED:20260302T200032Z
UID:13156-1773514800-1773531000@hungarianfolklife.org
SUMMARY:San Diego\, CA | Táncház
DESCRIPTION:On January 31st\, Eszterlánc will host its annual Táncház (dance house) and Concert at the Hungarian Cultural Center in Newark. Music will be provided by Gyanta Banda! 🎻 ✨ This … Continue reading Hungarian Folk Night: Táncház & Concert with Gyanta Banda
URL:https://hungarianfolklife.org/calendar/san-diego-ca-tanchaz/
LOCATION:San Diego Tanchaz\, 5041 Caywood Street\, San Diego\, CA\, 92117
CATEGORIES:Folk Dance | Táncház
ATTACH;FMTTYPE=image/jpeg:https://hungarianfolklife.org/wp-content/uploads/2026/03/IMG_0409.jpg
ORGANIZER;CN="House of Hungary%2C San Diego":MAILTO:info@sdmagyar.org
END:VEVENT
BEGIN:VEVENT
DTSTART;TZID=America/New_York:20260314T190000
DTEND;TZID=America/New_York:20260315T003000
DTSTAMP:20260421T061710
CREATED:20260226T175853Z
LAST-MODIFIED:20260226T175853Z
UID:13090-1773514800-1773534600@hungarianfolklife.org
SUMMARY:New York | NY | Ides of March Táncház
DESCRIPTION:On January 31st\, Eszterlánc will host its annual Táncház (dance house) and Concert at the Hungarian Cultural Center in Newark. Music will be provided by Gyanta Banda! 🎻 ✨ This … Continue reading Hungarian Folk Night: Táncház & Concert with Gyanta Banda
URL:https://hungarianfolklife.org/calendar/new-york-ny-ides-of-march-tanchaz/
LOCATION:Hungarian House | New Yok\, 213 East 82nd Street\, New York\, NY
CATEGORIES:Folk Dance | Táncház
ATTACH;FMTTYPE=image/jpeg:https://hungarianfolklife.org/wp-content/uploads/2026/02/638814167_10163758139686077_4806102580807417972_n.jpg
END:VEVENT
BEGIN:VEVENT
DTSTART;TZID=America/New_York:20260317T190000
DTEND;TZID=America/New_York:20260317T210000
DTSTAMP:20260421T061710
CREATED:20260302T194124Z
LAST-MODIFIED:20260302T194124Z
UID:13142-1773774000-1773781200@hungarianfolklife.org
SUMMARY:New York\, NY | Folk dance class series
DESCRIPTION:On January 31st\, Eszterlánc will host its annual Táncház (dance house) and Concert at the Hungarian Cultural Center in Newark. Music will be provided by Gyanta Banda! 🎻 ✨ This … Continue reading Hungarian Folk Night: Táncház & Concert with Gyanta Banda
URL:https://hungarianfolklife.org/calendar/new-york-ny-folk-dance-class-series-3/
LOCATION:Hungarian House | New Yok\, 213 East 82nd Street\, New York\, NY
ATTACH;FMTTYPE=image/png:https://hungarianfolklife.org/wp-content/uploads/2026/03/Embedded0726be02b41a499bb6530cdf916cc3f5.png
END:VEVENT
BEGIN:VEVENT
DTSTART;TZID=America/New_York:20260321T160000
DTEND;TZID=America/New_York:20260322T020000
DTSTAMP:20260421T061710
CREATED:20260209T185007Z
LAST-MODIFIED:20260209T185028Z
UID:12885-1774108800-1774144800@hungarianfolklife.org
SUMMARY:Utrecht\, Holland | Táncház
DESCRIPTION:On January 31st\, Eszterlánc will host its annual Táncház (dance house) and Concert at the Hungarian Cultural Center in Newark. Music will be provided by Gyanta Banda! 🎻 ✨ This … Continue reading Hungarian Folk Night: Táncház & Concert with Gyanta Banda
URL:https://hungarianfolklife.org/calendar/12885/
LOCATION:Buurthuis De Nieuwe Jutter\, Amerhof 66\, Utrecht\, 3522 TR
CATEGORIES:Folk Dance | Táncház
ATTACH;FMTTYPE=image/jpeg:https://hungarianfolklife.org/wp-content/uploads/2026/02/IMG_0219.jpg
ORGANIZER;CN="Tanchaz Holland":MAILTO:network@tanchazn.nl
END:VEVENT
BEGIN:VEVENT
DTSTART;TZID=America/New_York:20260321T170000
DTEND;TZID=America/New_York:20260322T020000
DTSTAMP:20260421T061710
CREATED:20260204T174219Z
LAST-MODIFIED:20260204T174219Z
UID:12736-1774112400-1774144800@hungarianfolklife.org
SUMMARY:Munich | XIII. Müncheni Táncháztalálkozó
DESCRIPTION:On January 31st\, Eszterlánc will host its annual Táncház (dance house) and Concert at the Hungarian Cultural Center in Newark. Music will be provided by Gyanta Banda! 🎻 ✨ This … Continue reading Hungarian Folk Night: Táncház & Concert with Gyanta Banda
URL:https://hungarianfolklife.org/calendar/munich-xiii-muncheni-tanchaztalalkozo/
LOCATION:Walheim\, 1 Waldheim\, Munich\, BY\, 81377
CATEGORIES:Festival,Folk Conference,Folk Dance | Táncház
END:VEVENT
BEGIN:VEVENT
DTSTART;TZID=America/New_York:20260324T190000
DTEND;TZID=America/New_York:20260324T210000
DTSTAMP:20260421T061710
CREATED:20260302T194232Z
LAST-MODIFIED:20260302T194232Z
UID:13145-1774378800-1774386000@hungarianfolklife.org
SUMMARY:
DESCRIPTION:On January 31st\, Eszterlánc will host its annual Táncház (dance house) and Concert at the Hungarian Cultural Center in Newark. Music will be provided by Gyanta Banda! 🎻 ✨ This … Continue reading Hungarian Folk Night: Táncház & Concert with Gyanta Banda
URL:https://hungarianfolklife.org/calendar/13145/
LOCATION:Hungarian House | New Yok\, 213 East 82nd Street\, New York\, NY
CATEGORIES:Folk Dance Workshop
ATTACH;FMTTYPE=image/png:https://hungarianfolklife.org/wp-content/uploads/2026/03/Embedded0726be02b41a499bb6530cdf916cc3f5.png
END:VEVENT
BEGIN:VEVENT
DTSTART;TZID=America/New_York:20260328T100000
DTEND;TZID=America/New_York:20260328T150000
DTSTAMP:20260421T061710
CREATED:20260227T163337Z
LAST-MODIFIED:20260227T163337Z
UID:13110-1774692000-1774710000@hungarianfolklife.org
SUMMARY:Auckland | New Zealand | Easter Festival
DESCRIPTION:On January 31st\, Eszterlánc will host its annual Táncház (dance house) and Concert at the Hungarian Cultural Center in Newark. Music will be provided by Gyanta Banda! 🎻 ✨ This … Continue reading Hungarian Folk Night: Táncház & Concert with Gyanta Banda
URL:https://hungarianfolklife.org/calendar/auckland-new-zealand-easter-festival/
LOCATION:The Green\, Mission Bay Auckland\, 6A Nihill Crescent\, Mission Bay\, Auckland\, New Zealand
CATEGORIES:Folk Dance | Táncház
ATTACH;FMTTYPE=image/jpeg:https://hungarianfolklife.org/wp-content/uploads/2026/02/IMG_0403.jpeg
ORGANIZER;CN="Aucklund Hungarian Club":MAILTO:all.h.club@gmail.com
END:VEVENT
BEGIN:VEVENT
DTSTART;TZID=America/New_York:20260328T190000
DTEND;TZID=America/New_York:20260328T233000
DTSTAMP:20260421T061710
CREATED:20260302T200144Z
LAST-MODIFIED:20260302T200144Z
UID:13160-1774724400-1774740600@hungarianfolklife.org
SUMMARY:San Diego\, CA | Táncház
DESCRIPTION:On January 31st\, Eszterlánc will host its annual Táncház (dance house) and Concert at the Hungarian Cultural Center in Newark. Music will be provided by Gyanta Banda! 🎻 ✨ This … Continue reading Hungarian Folk Night: Táncház & Concert with Gyanta Banda
URL:https://hungarianfolklife.org/calendar/san-diego-ca-tanchaz-2/
LOCATION:San Diego Tanchaz\, 5041 Caywood Street\, San Diego\, CA\, 92117
CATEGORIES:Folk Dance | Táncház
ATTACH;FMTTYPE=image/jpeg:https://hungarianfolklife.org/wp-content/uploads/2026/03/IMG_0409.jpg
ORGANIZER;CN="House of Hungary%2C San Diego":MAILTO:info@sdmagyar.org
END:VEVENT
BEGIN:VEVENT
DTSTART;TZID=America/New_York:20260331T190000
DTEND;TZID=America/New_York:20260331T210000
DTSTAMP:20260421T061710
CREATED:20260302T194404Z
LAST-MODIFIED:20260302T194404Z
UID:13147-1774983600-1774990800@hungarianfolklife.org
SUMMARY:New York\, NY | Folk dance class series
DESCRIPTION:On January 31st\, Eszterlánc will host its annual Táncház (dance house) and Concert at the Hungarian Cultural Center in Newark. Music will be provided by Gyanta Banda! 🎻 ✨ This … Continue reading Hungarian Folk Night: Táncház & Concert with Gyanta Banda
URL:https://hungarianfolklife.org/calendar/new-york-ny-folk-dance-class-series-4/
LOCATION:Hungarian House | New Yok\, 213 East 82nd Street\, New York\, NY
CATEGORIES:Folk Dance Workshop
ATTACH;FMTTYPE=image/png:https://hungarianfolklife.org/wp-content/uploads/2026/03/Embedded0726be02b41a499bb6530cdf916cc3f5.png
END:VEVENT
BEGIN:VEVENT
DTSTART;TZID=America/New_York:20260411T180000
DTEND;TZID=America/New_York:20260411T233000
DTSTAMP:20260421T061710
CREATED:20260302T225203Z
LAST-MODIFIED:20260302T225203Z
UID:13185-1775930400-1775950200@hungarianfolklife.org
SUMMARY:New Brunswick\, NJ | Hungarian Heritage Day Táncház
DESCRIPTION:On January 31st\, Eszterlánc will host its annual Táncház (dance house) and Concert at the Hungarian Cultural Center in Newark. Music will be provided by Gyanta Banda! 🎻 ✨ This … Continue reading Hungarian Folk Night: Táncház & Concert with Gyanta Banda
URL:https://hungarianfolklife.org/calendar/new-brunswick-nj-hungarian-heritage-day-tanchaz/
LOCATION:Hungrian American Athletic Club\, 233 Somerset St\, New\, NJ
CATEGORIES:Festival,Folk Dance | Táncház
ATTACH;FMTTYPE=image/png:https://hungarianfolklife.org/wp-content/uploads/2026/03/e7c56cd5e4bc507e6ba6914cbf218583.png
ORGANIZER;CN="Cs%C3%BCrd%C3%B6ng%C3%B6l%C5%91 Ensemble":MAILTO:csurfolk@gmail.com
END:VEVENT
BEGIN:VEVENT
DTSTART;TZID=America/New_York:20260411T190000
DTEND;TZID=America/New_York:20260411T233000
DTSTAMP:20260421T061710
CREATED:20260302T200300Z
LAST-MODIFIED:20260302T200300Z
UID:13162-1775934000-1775950200@hungarianfolklife.org
SUMMARY:San Diego\, CA | Táncház
DESCRIPTION:On January 31st\, Eszterlánc will host its annual Táncház (dance house) and Concert at the Hungarian Cultural Center in Newark. Music will be provided by Gyanta Banda! 🎻 ✨ This … Continue reading Hungarian Folk Night: Táncház & Concert with Gyanta Banda
URL:https://hungarianfolklife.org/calendar/san-diego-ca-tanchaz-3/
LOCATION:San Diego Tanchaz\, 5041 Caywood Street\, San Diego\, CA\, 92117
CATEGORIES:Folk Dance | Táncház
ATTACH;FMTTYPE=image/jpeg:https://hungarianfolklife.org/wp-content/uploads/2026/03/IMG_0409.jpg
ORGANIZER;CN="House of Hungary%2C San Diego":MAILTO:info@sdmagyar.org
END:VEVENT
BEGIN:VEVENT
DTSTART;VALUE=DATE:20260418
DTEND;VALUE=DATE:20260420
DTSTAMP:20260421T061710
CREATED:20260209T185940Z
LAST-MODIFIED:20260209T190224Z
UID:12892-1776470400-1776643199@hungarianfolklife.org
SUMMARY:Hollandsche Rading\, Netherlands | Folkdance Weekend
DESCRIPTION:On January 31st\, Eszterlánc will host its annual Táncház (dance house) and Concert at the Hungarian Cultural Center in Newark. Music will be provided by Gyanta Banda! 🎻 ✨ This … Continue reading Hungarian Folk Night: Táncház & Concert with Gyanta Banda
URL:https://hungarianfolklife.org/calendar/12892/
LOCATION:Dorpshuis Hollandsche Rading\, Dennenlaan 57\, Hollandsche Rading\, Netherlands
CATEGORIES:Folk Dance Workshop,Folk Dance | Táncház
ATTACH;FMTTYPE=image/jpeg:https://hungarianfolklife.org/wp-content/uploads/2026/02/index.67.jpg
ORGANIZER;CN="Tanchaz Holland":MAILTO:network@tanchazn.nl
END:VEVENT
BEGIN:VEVENT
DTSTART;TZID=America/New_York:20260419T154500
DTEND;TZID=America/New_York:20260419T173000
DTSTAMP:20260421T061710
CREATED:20260303T164040Z
LAST-MODIFIED:20260303T164040Z
UID:13207-1776613500-1776619800@hungarianfolklife.org
SUMMARY:Wallingford\, CT | Folk dance class
DESCRIPTION:On January 31st\, Eszterlánc will host its annual Táncház (dance house) and Concert at the Hungarian Cultural Center in Newark. Music will be provided by Gyanta Banda! 🎻 ✨ This … Continue reading Hungarian Folk Night: Táncház & Concert with Gyanta Banda
URL:https://hungarianfolklife.org/calendar/wallingford-ct-folk-dance-class-2/
LOCATION:Hungarian Club of Wallingford\, 147 Ward Street\, Wallingford\, CT\, 06492
CATEGORIES:Folk Dance Workshop
ATTACH;FMTTYPE=image/jpeg:https://hungarianfolklife.org/wp-content/uploads/2026/03/645192463_122267498876183432_2524024921568970414_n.jpg
ORGANIZER;CN="Hungarian Club of Wallingford":MAILTO:hccofwallingford@gmail.com
END:VEVENT
BEGIN:VEVENT
DTSTART;TZID=America/New_York:20260425T190000
DTEND;TZID=America/New_York:20260425T233000
DTSTAMP:20260421T061710
CREATED:20260302T200356Z
LAST-MODIFIED:20260302T200356Z
UID:13164-1777143600-1777159800@hungarianfolklife.org
SUMMARY:San Diego\, CA | Táncház
DESCRIPTION:On January 31st\, Eszterlánc will host its annual Táncház (dance house) and Concert at the Hungarian Cultural Center in Newark. Music will be provided by Gyanta Banda! 🎻 ✨ This … Continue reading Hungarian Folk Night: Táncház & Concert with Gyanta Banda
URL:https://hungarianfolklife.org/calendar/san-diego-ca-tanchaz-4/
LOCATION:San Diego Tanchaz\, 5041 Caywood Street\, San Diego\, CA\, 92117
CATEGORIES:Folk Dance | Táncház
ATTACH;FMTTYPE=image/jpeg:https://hungarianfolklife.org/wp-content/uploads/2026/03/IMG_0409.jpg
ORGANIZER;CN="House of Hungary%2C San Diego":MAILTO:info@sdmagyar.org
END:VEVENT
BEGIN:VEVENT
DTSTART;TZID=America/New_York:20260502T193000
DTEND;TZID=America/New_York:20260502T234500
DTSTAMP:20260421T061710
CREATED:20260302T223628Z
LAST-MODIFIED:20260302T223628Z
UID:13178-1777750200-1777765500@hungarianfolklife.org
SUMMARY:Cleveland\, OH | Gypsy Stringz and Harmonia Bands
DESCRIPTION:On January 31st\, Eszterlánc will host its annual Táncház (dance house) and Concert at the Hungarian Cultural Center in Newark. Music will be provided by Gyanta Banda! 🎻 ✨ This … Continue reading Hungarian Folk Night: Táncház & Concert with Gyanta Banda
URL:https://hungarianfolklife.org/calendar/cleveland-oh-gypsy-stringz-and-harmonia-bands/
LOCATION:Slovenian National Home | Cleveland\, 6417 St Clair Ave\, Cleveland\, Ohio\, 44103
CATEGORIES:Folk Dance | Táncház,Folk Music
ATTACH;FMTTYPE=image/jpeg:https://hungarianfolklife.org/wp-content/uploads/2026/03/645077323_1517562227045933_8847839383143186876_n.jpg
ORGANIZER;CN="Harmonia Ensemble":MAILTO:harmoniabandcleveland@gmail.com
END:VEVENT
BEGIN:VEVENT
DTSTART;VALUE=DATE:20260508
DTEND;VALUE=DATE:20260511
DTSTAMP:20260421T061710
CREATED:20250729T165911Z
LAST-MODIFIED:20260116T192249Z
UID:9833-1778198400-1778457599@hungarianfolklife.org
SUMMARY:Pontozó 2026 | Cleveland | Ohio
DESCRIPTION:On January 31st\, Eszterlánc will host its annual Táncház (dance house) and Concert at the Hungarian Cultural Center in Newark. Music will be provided by Gyanta Banda! 🎻 ✨ This … Continue reading Hungarian Folk Night: Táncház & Concert with Gyanta Banda
URL:https://hungarianfolklife.org/calendar/pontozo-2026-cleveland-ohio/
LOCATION:West Side Hungarian Reformed Church\, 5300 Puritas Ave\, Cleveland\, OH
CATEGORIES:Festival,Folk Dance | Táncház,Folk Music
END:VEVENT
BEGIN:VEVENT
DTSTART;TZID=America/Los_Angeles:20260509T120000
DTEND;TZID=America/Los_Angeles:20260509T220000
DTSTAMP:20260421T061710
CREATED:20260209T211231Z
LAST-MODIFIED:20260209T211231Z
UID:12883-1778328000-1778364000@hungarianfolklife.org
SUMMARY:San Francisco Bay Area\, CA | 10th Hungarian Heritage Festival
DESCRIPTION:On January 31st\, Eszterlánc will host its annual Táncház (dance house) and Concert at the Hungarian Cultural Center in Newark. Music will be provided by Gyanta Banda! 🎻 ✨ This … Continue reading Hungarian Folk Night: Táncház & Concert with Gyanta Banda
URL:https://hungarianfolklife.org/calendar/san-francisco-bay-area-ca-10th-hungarian-heritage-festival/
LOCATION:Twin Pines Park\, 1 Twin Pines Ln\, Belmont\, California\, 94002
CATEGORIES:Festival
ATTACH;FMTTYPE=image/png:https://hungarianfolklife.org/wp-content/uploads/2026/02/HHFFestival-Flyer2026-v11final.png
END:VEVENT
BEGIN:VEVENT
DTSTART;TZID=America/New_York:20260510T103000
DTEND;TZID=America/New_York:20260510T120000
DTSTAMP:20260421T061710
CREATED:20260116T192028Z
LAST-MODIFIED:20260116T192043Z
UID:12009-1778409000-1778414400@hungarianfolklife.org
SUMMARY:Cleveland | OH | Annual Meeting | Hungarian Folklife Association
DESCRIPTION:On January 31st\, Eszterlánc will host its annual Táncház (dance house) and Concert at the Hungarian Cultural Center in Newark. Music will be provided by Gyanta Banda! 🎻 ✨ This … Continue reading Hungarian Folk Night: Táncház & Concert with Gyanta Banda
URL:https://hungarianfolklife.org/calendar/annual-meeting-hungarian-folklife-association/
LOCATION:West Side Hungarian Reformed Church\, 5300 Puritas Ave\, Cleveland\, OH
CATEGORIES:Folk Conference
ATTACH;FMTTYPE=image/png:https://hungarianfolklife.org/wp-content/uploads/2026/01/Untitled.png
END:VEVENT
BEGIN:VEVENT
DTSTART;TZID=America/New_York:20260515T150000
DTEND;TZID=America/New_York:20260518T110000
DTSTAMP:20260421T061710
CREATED:20260210T155915Z
LAST-MODIFIED:20260329T165424Z
UID:12922-1778857200-1779102000@hungarianfolklife.org
SUMMARY:Canada | Tücsök Tábor
DESCRIPTION:On January 31st\, Eszterlánc will host its annual Táncház (dance house) and Concert at the Hungarian Cultural Center in Newark. Music will be provided by Gyanta Banda! 🎻 ✨ This … Continue reading Hungarian Folk Night: Táncház & Concert with Gyanta Banda
URL:https://hungarianfolklife.org/calendar/seattle-wa-titi-tabor/
LOCATION:Sonrisa Farm\, 20133B CR 43\, Alexandria\, Ontario\, K0C 1A0\, Canada
CATEGORIES:Folk Camp
ATTACH;FMTTYPE=image/jpeg:https://hungarianfolklife.org/wp-content/uploads/2026/02/617513554_122214962078560561_859191290223507637_n.jpg
END:VEVENT
BEGIN:VEVENT
DTSTART;TZID=America/New_York:20260620T170000
DTEND;TZID=America/New_York:20260627T090000
DTSTAMP:20260421T061710
CREATED:20250923T204333Z
LAST-MODIFIED:20260210T162533Z
UID:10600-1781974800-1782550800@hungarianfolklife.org
SUMMARY:Csipke Tábor 2026
DESCRIPTION:On January 31st\, Eszterlánc will host its annual Táncház (dance house) and Concert at the Hungarian Cultural Center in Newark. Music will be provided by Gyanta Banda! 🎻 ✨ This … Continue reading Hungarian Folk Night: Táncház & Concert with Gyanta Banda
URL:https://hungarianfolklife.org/calendar/csipke-tabor-2026/
LOCATION:SNPJ Recreation Center\, 270 Martin Road\, Enon Valley\, PA\, 16120
CATEGORIES:Folk Camp,Folk Dance Workshop
ATTACH;FMTTYPE=image/jpeg:https://hungarianfolklife.org/wp-content/uploads/2025/09/622822579_1341071161160791_5303751099248718489_n.jpg
ORGANIZER;CN="Csipke Tabor":MAILTO:tabor@csipketabor.org
END:VEVENT
END:VCALENDAR